BEGIN:VCALENDAR
VERSION:2.0
PRODID:-//Tukios.com/
BEGIN:VEVENT
UID:8e3ef237-8e78-4a05-8bff-7656d38a0a07@www.simplechoicescremation.com
DTSTAMP:20260424T173519Z
DTSTART:20260515T190000Z
DTEND:20260515T230000Z
SUMMARY:Celebration of Life
DESCRIPTION:
URL:https://www.simplechoicescremation.com/obituaries/celeste-sodano
LOCATION:Iron and Ale Grill & Bar 418 Consaul Road  Schenectady NY 12304
GEO:42.7642936;-73.8692675
END:VEVENT
END:VCALENDAR